BEGIN:VCALENDAR
VERSION:2.0
PRODID:-//wp-events-plugin.com//7.2.3.1//EN
TZID:Europe/Berlin
X-WR-TIMEZONE:Europe/Berlin
BEGIN:VEVENT
UID:8@schalker-fan-club.s04-fan-club-brakelsiek.de
DTSTART;TZID=Europe/Berlin:20260704T080000
DTEND;TZID=Europe/Berlin:20260704T180000
DTSTAMP:20260330T110547Z
URL:http://schalker-fan-club.s04-fan-club-brakelsiek.de/events/mythos-scha
 lke-tour/
SUMMARY:Mythos Schalke Tour
DESCRIPTION:MYTHOS SCHALKE TOUR\nAUF NACH GELSENKIRCHEN!\n\nLiebe Mitgliede
 r\,\n\nIhr seid herzlich eingeladen zu einer ganz besonderen Reise durch d
 ie Geschichte und Faszination von SCHALKE!\n\n📍 Ort: Gelsenkirchen – 
 Schalke\n📅 Datum: 04.07.2026\n🚌 Abfahrt: 08:00 Uhr am Busplatz Brake
 lsiek\n🔁 Rückfahrt: 18:00 Uhr ab Gelsenkirchen\n\nKostenbeitrag: 25 
 €\n\nErlebe den Mythos hautnah und tauche ein in die einzigartige Welt r
 und um Tradition\, Emotionen und echte Fußballkultur.\n\nFreu dich auf sp
 annende Einblicke\, legendäre Geschichten und unvergessliche Momente!\n\n
 Bitte gib mir bis zum 20.06. Bescheid\, ob du dabei bist.\n\nKontakt:\nMic
 hael Meinberg\n📞 01758368763\n✉️ michaelmeinberg@s04-fan-club-brake
 lsiek.de\n\nWir freuen uns auf einen großartigen Tag mit euch!\n\nEuer Vo
 rstand
ATTACH;FMTTYPE=image/jpeg:http://schalker-fan-club.s04-fan-club-brakelsiek
 .de/wp-content/uploads/2026/03/Mythos_Schalke_Tour-1.jpeg
LOCATION:Gelsenkirchen - Schalke\, \, Deutschland
X-APPLE-STRUCTURED-LOCATION;VALUE=URI;X-ADDRESS=\, Deutschland;X-APPLE-RADI
 US=100;X-TITLE=Gelsenkirchen - Schalke:geo:0,0
END:VEVENT
BEGIN:VTIMEZONE
TZID:Europe/Berlin
X-LIC-LOCATION:Europe/Berlin
BEGIN:DAYLIGHT
DTSTART:20260329T030000
TZOFFSETFROM:+0100
TZOFFSETTO:+0200
TZNAME:CEST
END:DAYLIGHT
END:VTIMEZONE
END:VCALENDAR